BEGIN:VCALENDAR
VERSION:2.0
PRODID:SchoolNow
CALSCALE:GREGORIAN
BEGIN:VEVENT
UID:68cc2f00-952a-11ee-a317-0aafd486b989
DTSTAMP:20231207T175947Z
SUMMARY:Grill N Chill
URL;VALUE=URI:https://www.wildernesslakecdd.org/calendar/4988346/grill-n-ch
 ill
DTSTART:20231208T230000Z
DTEND:20231209T010000Z
END:VEVENT
END:VCALENDAR
