BEGIN:VCALENDAR
VERSION:2.0
PRODID:SchoolNow
CALSCALE:GREGORIAN
BEGIN:VEVENT
UID:576d12ea-669c-11ee-9e2e-0a58a9feac02
DTSTAMP:20231009T120656Z
SUMMARY:Kids Costume Parade
URL;VALUE=URI:https://www.wildernesslakecdd.org/calendar/4846923/kids-costu
 me-parade
DTSTART:20231031T210000Z
DTEND:20231031T220000Z
END:VEVENT
END:VCALENDAR
