BEGIN:VCALENDAR
VERSION:2.0
PRODID:SchoolNow
CALSCALE:GREGORIAN
BEGIN:VEVENT
UID:47fbe3c2-669c-11ee-b67e-0a58a9feac02
DTSTAMP:20231009T120630Z
SUMMARY:Haunted House - Oct. 28th\, 2023 (Scary)
URL;VALUE=URI:https://www.wildernesslakecdd.org/calendar/4846922/haunted-ho
 use-oct-28th-2023-scary
DTSTART:20231028T230000Z
DTEND:20231029T000000Z
END:VEVENT
END:VCALENDAR
