BEGIN:VCALENDAR
VERSION:2.0
PRODID:SchoolNow
CALSCALE:GREGORIAN
BEGIN:VEVENT
UID:2642a7de-669c-11ee-9b96-0a58a9feac02
DTSTAMP:20231009T120533Z
SUMMARY:Haunted House (Kid Friendly)
URL;VALUE=URI:https://www.wildernesslakecdd.org/calendar/4846921/haunted-ho
 use-kid-friendly
DTSTART:20231028T210000Z
DTEND:20231028T220000Z
END:VEVENT
END:VCALENDAR
