BEGIN:VCALENDAR
VERSION:2.0
PRODID:SchoolNow
CALSCALE:GREGORIAN
BEGIN:VEVENT
UID:09a73536-669c-11ee-a7a7-0a58a9feac02
DTSTAMP:20231009T120804Z
SUMMARY:Haunted House - Oct. 27th\, 2023 (Scary)
URL;VALUE=URI:https://www.wildernesslakecdd.org/calendar/4846920/haunted-ho
 use-oct-27th-2023-scary
DTSTART:20231027T230000Z
DTEND:20231028T000000Z
END:VEVENT
END:VCALENDAR
