BEGIN:VCALENDAR
VERSION:2.0
PRODID:SchoolNow
CALSCALE:GREGORIAN
BEGIN:VEVENT
UID:f4614464-669b-11ee-afda-0a58a9feac02
DTSTAMP:20231009T120410Z
SUMMARY:Best Decorated Halloween House
URL;VALUE=URI:https://www.wildernesslakecdd.org/calendar/4846919/best-decor
 ated-halloween-house
DTSTART;VALUE=DATE:20231025
DTEND;VALUE=DATE:20231026
END:VEVENT
END:VCALENDAR
