BEGIN:VCALENDAR
VERSION:2.0
PRODID:SchoolNow
CALSCALE:GREGORIAN
BEGIN:VEVENT
UID:e3e59b08-669b-11ee-a237-0a58a9feac02
DTSTAMP:20231009T120342Z
SUMMARY:HOA Meeting
URL;VALUE=URI:https://www.wildernesslakecdd.org/calendar/4846918/hoa-meetin
 g
DTSTART:20231124T233000Z
DTEND:20231125T003000Z
END:VEVENT
END:VCALENDAR
