BEGIN:VCALENDAR
VERSION:2.0
PRODID:SchoolNow
CALSCALE:GREGORIAN
BEGIN:VEVENT
UID:a991e36c-669b-11ee-8a77-0a58a9feac02
DTSTAMP:20231009T120204Z
SUMMARY:Oktoberfest Family Festival
URL;VALUE=URI:https://www.wildernesslakecdd.org/calendar/4846915/oktoberfes
 t-family-festival
DTSTART:20231014T190000Z
DTEND:20231014T200000Z
END:VEVENT
END:VCALENDAR
