BEGIN:VCALENDAR
VERSION:2.0
PRODID:SchoolNow
CALSCALE:GREGORIAN
BEGIN:VEVENT
UID:8b3ad748-669b-11ee-9329-0a58a9feac02
DTSTAMP:20231009T120215Z
SUMMARY:Art Class
URL;VALUE=URI:https://www.wildernesslakecdd.org/calendar/4846914/art-class
DTSTART:20231014T160000Z
DTEND:20231014T170000Z
END:VEVENT
END:VCALENDAR
