BEGIN:VCALENDAR
VERSION:2.0
PRODID:SchoolNow
CALSCALE:GREGORIAN
BEGIN:VEVENT
UID:a1a2f3ae-37c9-11ee-ac76-0a58a9feac02
DTSTAMP:20230810T220553Z
SUMMARY:Food Truck Night - Aug. 16\, 2023
URL;VALUE=URI:https://www.wildernesslakecdd.org/calendar/4563751/food-truck
 -night-aug-16-2023
DTSTART:20230816T210000Z
DTEND:20230817T000000Z
END:VEVENT
END:VCALENDAR
