BEGIN:VCALENDAR
VERSION:2.0
PRODID:SchoolNow
CALSCALE:GREGORIAN
BEGIN:VEVENT
UID:92d49e64-37aa-11ee-8199-0e9d4cb3c957
DTSTAMP:20240828T203503Z
SUMMARY:CDD Board Meeting - Sept. 2024
LOCATION:The Preserve at Wilderness Lake Lodge\, located at 21320 Wildernes
 s Lake Boulevard\, Land O' Lakes\, FL 34637.
URL;VALUE=URI:https://www.wildernesslakecdd.org/calendar/4563682/cdd-board-
 meeting-sept-2024
DTSTART:20240904T133000Z
DTEND:20240904T170000Z
ATTACH;FILENAME=2024-09-04 Agenda Package.pdf;FMTTYPE=application/pdf:https
 ://campussuite-storage.s3.amazonaws.com/prod/1558874/21caec5e-ea98-11e9-85
 81-0a20d2c7fac4/2839295/a038bc38-657c-11ef-b622-0a58a9feac02/file/2024-09-
 04 Agenda Package.pdf
END:VEVENT
END:VCALENDAR
