BEGIN:VCALENDAR
VERSION:2.0
PRODID:SchoolNow
CALSCALE:GREGORIAN
BEGIN:VEVENT
UID:3dc6ede6-37aa-11ee-8c72-0a58a9feac02
DTSTAMP:20240731T222005Z
SUMMARY:CDD Board Meeting + Budget Public Hearing - Aug. 2024
LOCATION:The Preserve at Wilderness Lake Lodge\, located at 21320 Wildernes
 s Lake Boulevard\, Land O' Lakes\, FL 34637.
URL;VALUE=URI:https://www.wildernesslakecdd.org/calendar/4563669/cdd-board-
 meeting-aug-2024
DTSTART:20240807T223000Z
DTEND:20240808T020000Z
ATTACH;FILENAME=2024-08-07 Agenda Package.pdf;FMTTYPE=application/pdf:https
 ://campussuite-storage.s3.amazonaws.com/prod/1558874/21caec5e-ea98-11e9-85
 81-0a20d2c7fac4/2824097/2d93b820-4f8a-11ef-9d75-02f3cf4dfd2f/file/2024-08-
 07 Agenda Package.pdf
END:VEVENT
END:VCALENDAR
