BEGIN:VCALENDAR
VERSION:2.0
PRODID:SchoolNow
CALSCALE:GREGORIAN
BEGIN:VEVENT
UID:2fc118f2-37aa-11ee-816b-0a58a9feac02
DTSTAMP:20240628T192009Z
SUMMARY:CDD Board Meeting - Jul. 2024
LOCATION:The Preserve at Wilderness Lake Lodge\, located at 21320 Wildernes
 s Lake Boulevard\, Land O' Lakes\, FL 34637.
URL;VALUE=URI:https://www.wildernesslakecdd.org/calendar/4563668/cdd-board-
 meeting-jul-2024
DTSTART:20240703T133000Z
DTEND:20240703T170000Z
ATTACH;FILENAME=2024-07-03 Revised Agenda Package.pdf;FMTTYPE=application/p
 df:https://campussuite-storage.s3.amazonaws.com/prod/1558874/21caec5e-ea98
 -11e9-8581-0a20d2c7fac4/2814033/33494c56-3583-11ef-a4e8-0a58a9feac02/file/
 2024-07-03 Revised Agenda Package.pdf
END:VEVENT
END:VCALENDAR
