BEGIN:VCALENDAR
VERSION:2.0
PRODID:SchoolNow
CALSCALE:GREGORIAN
BEGIN:VEVENT
UID:22dd00e2-37aa-11ee-8ae7-0a58a9feac02
DTSTAMP:20240602T112741Z
SUMMARY:CDD Board Meeting - Jun. 2024
LOCATION:The Preserve at Wilderness Lake Lodge\, located at 21320 Wildernes
 s Lake Boulevard\, Land O' Lakes\, FL 34637.
URL;VALUE=URI:https://www.wildernesslakecdd.org/calendar/4563667/cdd-board-
 meeting-jun-2024
DTSTART:20240605T133000Z
DTEND:20240605T170000Z
ATTACH;FILENAME=2024-06-05 Revised Agenda Package (1).pdf;FMTTYPE=applicati
 on/pdf:https://campussuite-storage.s3.amazonaws.com/prod/1558874/21caec5e-
 ea98-11e9-8581-0a20d2c7fac4/2799921/042a6ca8-20d3-11ef-920c-0affc8cb62d7/f
 ile/2024-06-05 Revised Agenda Package (1).pdf
END:VEVENT
END:VCALENDAR
