BEGIN:VCALENDAR
VERSION:2.0
PRODID:SchoolNow
CALSCALE:GREGORIAN
BEGIN:VEVENT
UID:117d813c-37aa-11ee-99fd-0e9d4cb3c957
DTSTAMP:20240426T201118Z
SUMMARY:CDD Board Meeting - May 2024 + Budget Approval
LOCATION:The Preserve at Wilderness Lake Lodge\, located at 21320 Wildernes
 s Lake Boulevard\, Land O' Lakes\, FL 34637.
URL;VALUE=URI:https://www.wildernesslakecdd.org/calendar/4563666/cdd-board-
 meeting-may-2024
DTSTART:20240501T223000Z
DTEND:20240502T020000Z
ATTACH;FILENAME=2024-05-02 Revised Agenda Package.pdf;FMTTYPE=application/p
 df:https://campussuite-storage.s3.amazonaws.com/prod/1558874/21caec5e-ea98
 -11e9-8581-0a20d2c7fac4/2776788/f3aba3c4-0408-11ef-a571-0a58a9feac02/file/
 2024-05-02 Revised Agenda Package.pdf
END:VEVENT
END:VCALENDAR
