BEGIN:VCALENDAR
VERSION:2.0
PRODID:SchoolNow
CALSCALE:GREGORIAN
BEGIN:VEVENT
UID:044d6cd4-37aa-11ee-bba5-0a58a9feac02
DTSTAMP:20240327T215353Z
SUMMARY:CDD Board Meeting - Apr. 3rd
LOCATION:The Preserve at Wilderness Lake Lodge\, located at 21320 Wildernes
 s Lake Boulevard\, Land O' Lakes\, FL 34637.
URL;VALUE=URI:https://www.wildernesslakecdd.org/calendar/4563665/cdd-board-
 meeting-apr-2024
DTSTART:20240403T133000Z
DTEND:20240403T170000Z
ATTACH;FILENAME=2024-04-03 Agenda Package.pdf;FMTTYPE=application/pdf:https
 ://campussuite-storage.s3.amazonaws.com/prod/1558874/21caec5e-ea98-11e9-85
 81-0a20d2c7fac4/2763451/65f058ea-ec84-11ee-a4e2-0a58a9feac02/file/2024-04-
 03 Agenda Package.pdf
END:VEVENT
END:VCALENDAR
