BEGIN:VCALENDAR
VERSION:2.0
PRODID:SchoolNow
CALSCALE:GREGORIAN
BEGIN:VEVENT
UID:f80d908e-37a9-11ee-95b4-0a58a9feac02
DTSTAMP:20240228T221259Z
SUMMARY:CDD Board Meeting - Mar. 2024
LOCATION:The Preserve at Wilderness Lake Lodge\, located at 21320 Wildernes
 s Lake Boulevard\, Land O' Lakes\, FL 34637.
URL;VALUE=URI:https://www.wildernesslakecdd.org/calendar/4563664/cdd-board-
 meeting-mar-2024
DTSTART:20240306T143000Z
DTEND:20240306T180000Z
ATTACH;FILENAME=2024-03-06 Agenda Package.pdf;FMTTYPE=application/pdf:https
 ://campussuite-storage.s3.amazonaws.com/prod/1558874/21caec5e-ea98-11e9-85
 81-0a20d2c7fac4/2749134/241ff29a-d686-11ee-9d9a-0ee270248d35/file/2024-03-
 06 Agenda Package.pdf
END:VEVENT
END:VCALENDAR
