BEGIN:VCALENDAR
VERSION:2.0
PRODID:SchoolNow
CALSCALE:GREGORIAN
BEGIN:VEVENT
UID:e6a96598-37a9-11ee-99ba-0a58a9feac02
DTSTAMP:20240202T220006Z
SUMMARY:CDD Board Meeting - Feb. 2024
LOCATION:The Preserve at Wilderness Lake Lodge\, located at 21320 Wildernes
 s Lake Boulevard\, Land O' Lakes\, FL 34637.
URL;VALUE=URI:https://www.wildernesslakecdd.org/calendar/4563663/cdd-board-
 meeting-feb-2024
DTSTART:20240207T233000Z
DTEND:20240208T030000Z
ATTACH;FILENAME=2024-02-07 Revised Agenda Package.pdf;FMTTYPE=application/p
 df:https://campussuite-storage.s3.amazonaws.com/prod/1558874/21caec5e-ea98
 -11e9-8581-0a20d2c7fac4/2736154/43bacea6-c216-11ee-801d-0e7c87a4ba4d/file/
 2024-02-07 Revised Agenda Package.pdf
END:VEVENT
END:VCALENDAR
