BEGIN:VCALENDAR
VERSION:2.0
PRODID:SchoolNow
CALSCALE:GREGORIAN
BEGIN:VEVENT
UID:d84f7654-37a9-11ee-b2c4-0a58a9feac02
DTSTAMP:20231229T222724Z
SUMMARY:CDD Board Meeting - Jan. 2024
LOCATION:The Preserve at Wilderness Lake Lodge\, located at 21320 Wildernes
 s Lake Boulevard\, Land O' Lakes\, FL 34637.
URL;VALUE=URI:https://www.wildernesslakecdd.org/calendar/4563662/cdd-board-
 meeting-jan-2024
DTSTART:20240103T143000Z
DTEND:20240103T180000Z
ATTACH;FILENAME=2024-01-03 Revised Agenda Package.pdf;FMTTYPE=application/p
 df:https://campussuite-storage.s3.amazonaws.com/prod/1558874/21caec5e-ea98
 -11e9-8581-0a20d2c7fac4/2719583/4caa2ec8-a699-11ee-981c-0e88c4759e19/file/
 2024-01-03 Revised Agenda Package.pdf
END:VEVENT
END:VCALENDAR
