BEGIN:VCALENDAR
VERSION:2.0
PRODID:SchoolNow
CALSCALE:GREGORIAN
BEGIN:VEVENT
UID:b8728236-37a9-11ee-a539-0a58a9feac02
DTSTAMP:20231030T212237Z
SUMMARY:CDD Board Meeting - Nov. 2023
LOCATION:The Preserve at Wilderness Lake Lodge\, located at 21320 Wildernes
 s Lake Boulevard\, Land O' Lakes\, FL 34637.
URL;VALUE=URI:https://www.wildernesslakecdd.org/calendar/4563660/cdd-board-
 meeting-nov-2023
DTSTART:20231101T223000Z
DTEND:20231102T020000Z
ATTACH;FILENAME=2023-11-01 Revised Agenda Package.pdf;FMTTYPE=application/p
 df:https://campussuite-storage.s3.amazonaws.com/prod/1558874/21caec5e-ea98
 -11e9-8581-0a20d2c7fac4/2690077/9810af86-7769-11ee-b1c2-0a58a9feac02/file/
 2023-11-01 Revised Agenda Package.pdf
END:VEVENT
END:VCALENDAR
