BEGIN:VCALENDAR
VERSION:2.0
PRODID:SchoolNow
CALSCALE:GREGORIAN
BEGIN:VEVENT
UID:a6a89a0e-37a9-11ee-8aec-0a58a9feac02
DTSTAMP:20230927T213016Z
SUMMARY:CDD Board Meeting - Oct. 2023
LOCATION:The Preserve at Wilderness Lake Lodge\, located at 21320 Wildernes
 s Lake Boulevard\, Land O' Lakes\, FL 34637.
URL;VALUE=URI:https://www.wildernesslakecdd.org/calendar/4563659/cdd-board-
 meeting-oct-2023
DTSTART:20231004T133000Z
DTEND:20231004T170000Z
ATTACH;FILENAME=2023-10-04 Revised Agenda Package.pdf;FMTTYPE=application/p
 df:https://campussuite-storage.s3.amazonaws.com/prod/1558874/21caec5e-ea98
 -11e9-8581-0a20d2c7fac4/2670524/e947523a-5d7c-11ee-a133-0a58a9feac02/file/
 2023-10-04 Revised Agenda Package.pdf
END:VEVENT
END:VCALENDAR
