BEGIN:VCALENDAR
VERSION:2.0
PRODID:SchoolNow
CALSCALE:GREGORIAN
BEGIN:VEVENT
UID:949f138a-0930-11ee-b1dc-0a7eb72370bd
DTSTAMP:20230615T191216Z
SUMMARY:CDD Workshop - June 2023
LOCATION:The Preserve at Wilderness Lake Lodge\, located at 21320 Wildernes
 s Lake Boulevard\, Land O' Lakes\, FL 34637.
URL;VALUE=URI:https://www.wildernesslakecdd.org/calendar/4379024/cdd-worksh
 op-june-2023
DTSTART:20230622T133000Z
DTEND:20230622T183000Z
ATTACH;FILENAME=2023-06-22 Workshop Agenda Package - Updated 06-16.pdf;FMTT
 YPE=application/pdf:https://campussuite-storage.s3.amazonaws.com/prod/1558
 874/21caec5e-ea98-11e9-8581-0a20d2c7fac4/2615398/735610a2-0bb0-11ee-94b5-0
 ac214df6ec9/file/2023-06-22 Workshop Agenda Package - Updated 06-16.pdf
END:VEVENT
END:VCALENDAR
