BEGIN:VCALENDAR
VERSION:2.0
PRODID:SchoolNow
CALSCALE:GREGORIAN
BEGIN:VEVENT
UID:a6d573c4-ee81-11ed-a350-0e117b51089b
DTSTAMP:20230517T214802Z
SUMMARY:CDD Board Meeting - May 24\, 2023
LOCATION:The Preserve at Wilderness Lake Lodge\, located at 21320 Wildernes
 s Lake Boulevard\, Land O' Lakes\, FL 34637.
URL;VALUE=URI:https://www.wildernesslakecdd.org/calendar/4212741/cdd-board-
 meeting-may-24-2023
DTSTART:20230524T133000Z
DTEND:20230524T170000Z
ATTACH;FILENAME=2023-05-24 Revised Agenda Package.pdf;FMTTYPE=application/p
 df:https://campussuite-storage.s3.amazonaws.com/prod/1558874/21caec5e-ea98
 -11e9-8581-0a20d2c7fac4/2594727/54c0cc6a-f4fc-11ed-a473-0edad3ae5e31/file/
 2023-05-24 Revised Agenda Package.pdf
END:VEVENT
END:VCALENDAR
