BEGIN:VCALENDAR
VERSION:2.0
PRODID:SchoolNow
CALSCALE:GREGORIAN
BEGIN:VEVENT
UID:1a1db2de-c5eb-11ed-8cf1-028ceb8aab2b
DTSTAMP:20230319T001506Z
SUMMARY:Memorial Day Celebration
URL;VALUE=URI:https://www.wildernesslakecdd.org/calendar/3889360/memorial-d
 ay-celebration
DTSTART:20230529T160000Z
DTEND:20230529T190000Z
END:VEVENT
END:VCALENDAR
