BEGIN:VCALENDAR
VERSION:2.0
PRODID:SchoolNow
CALSCALE:GREGORIAN
BEGIN:VEVENT
UID:0094d540-c5eb-11ed-b3cd-028ceb8aab2b
DTSTAMP:20230319T001423Z
SUMMARY:Art Class - May 27th
URL;VALUE=URI:https://www.wildernesslakecdd.org/calendar/3889359/art-class-
 may-27th
DTSTART:20230527T160000Z
DTEND:20230527T190000Z
END:VEVENT
END:VCALENDAR
