BEGIN:VCALENDAR
VERSION:2.0
PRODID:SchoolNow
CALSCALE:GREGORIAN
BEGIN:VEVENT
UID:e773bc5c-c5ea-11ed-80fe-028ceb8aab2b
DTSTAMP:20230319T001341Z
SUMMARY:HOA Meeting - May 23rd
URL;VALUE=URI:https://www.wildernesslakecdd.org/calendar/3889358/hoa-meetin
 g-may-23rd
DTSTART:20230523T223000Z
DTEND:20230523T233000Z
END:VEVENT
END:VCALENDAR
