BEGIN:VCALENDAR
VERSION:2.0
PRODID:SchoolNow
CALSCALE:GREGORIAN
BEGIN:VEVENT
UID:cd64eb56-c5ea-11ed-9d1d-028ceb8aab2b
DTSTAMP:20230319T001257Z
SUMMARY:Sip & Paint - May 19th
URL;VALUE=URI:https://www.wildernesslakecdd.org/calendar/3889357/sip-paint-
 may-19th
DTSTART:20230519T220000Z
DTEND:20230520T003000Z
END:VEVENT
END:VCALENDAR
