BEGIN:VCALENDAR
VERSION:2.0
PRODID:SchoolNow
CALSCALE:GREGORIAN
BEGIN:VEVENT
UID:950f6fec-c5ea-11ed-82f6-028ceb8aab2b
DTSTAMP:20230319T001123Z
SUMMARY:ARC Meeting - May 22nd
URL;VALUE=URI:https://www.wildernesslakecdd.org/calendar/3889355/arc-meetin
 g-may-22nd
DTSTART:20230522T223000Z
DTEND:20230522T233000Z
END:VEVENT
END:VCALENDAR
