BEGIN:VCALENDAR
VERSION:2.0
PRODID:SchoolNow
CALSCALE:GREGORIAN
BEGIN:VEVENT
UID:85c56faa-c5ea-11ed-91e5-028ceb8aab2b
DTSTAMP:20230319T001057Z
SUMMARY:ARC Meeting - May 8th
URL;VALUE=URI:https://www.wildernesslakecdd.org/calendar/3889354/arc-meetin
 g-may-8th
DTSTART:20230508T223000Z
DTEND:20230508T233000Z
END:VEVENT
END:VCALENDAR
