BEGIN:VCALENDAR
VERSION:2.0
PRODID:SchoolNow
CALSCALE:GREGORIAN
BEGIN:VEVENT
UID:0e7476c6-c5ea-11ed-8819-028ceb8aab2b
DTSTAMP:20230319T000737Z
SUMMARY:Family Movie Night - Jun. 1st
LOCATION:Theatre
URL;VALUE=URI:https://www.wildernesslakecdd.org/calendar/3889352/family-mov
 ie-night-jun-1st
DTSTART:20230601T220000Z
DTEND:20230601T233000Z
END:VEVENT
END:VCALENDAR
