BEGIN:VCALENDAR
VERSION:2.0
PRODID:SchoolNow
CALSCALE:GREGORIAN
BEGIN:VEVENT
UID:024b7ad4-c5ea-11ed-9e98-028ceb8aab2b
DTSTAMP:20230319T000716Z
SUMMARY:Family Movie Night - May 25th
LOCATION:Theatre
URL;VALUE=URI:https://www.wildernesslakecdd.org/calendar/3889351/family-mov
 ie-night-may-25th
DTSTART:20230525T220000Z
DTEND:20230525T233000Z
END:VEVENT
END:VCALENDAR
