BEGIN:VCALENDAR
VERSION:2.0
PRODID:SchoolNow
CALSCALE:GREGORIAN
BEGIN:VEVENT
UID:f7d6966a-c5e9-11ed-af6c-028ceb8aab2b
DTSTAMP:20230319T000659Z
SUMMARY:Family Movie Night - May 18th
LOCATION:Theatre
URL;VALUE=URI:https://www.wildernesslakecdd.org/calendar/3889350/family-mov
 ie-night-may-18th
DTSTART:20230518T220000Z
DTEND:20230518T233000Z
END:VEVENT
END:VCALENDAR
