BEGIN:VCALENDAR
VERSION:2.0
PRODID:SchoolNow
CALSCALE:GREGORIAN
BEGIN:VEVENT
UID:edb1ebda-c5e9-11ed-b71c-028ceb8aab2b
DTSTAMP:20230319T000642Z
SUMMARY:Family Movie Night - May 11th
LOCATION:Theatre
URL;VALUE=URI:https://www.wildernesslakecdd.org/calendar/3889349/family-mov
 ie-night-may-11th
DTSTART:20230511T220000Z
DTEND:20230511T233000Z
END:VEVENT
END:VCALENDAR
