BEGIN:VCALENDAR
VERSION:2.0
PRODID:SchoolNow
CALSCALE:GREGORIAN
BEGIN:VEVENT
UID:cacc60fa-c5e9-11ed-9a82-028ceb8aab2b
DTSTAMP:20230319T000621Z
SUMMARY:Family Movie Night - May 4th
LOCATION:Theatre
URL;VALUE=URI:https://www.wildernesslakecdd.org/calendar/3889348/family-mov
 ie-night-may-4th
DTSTART:20230504T220000Z
DTEND:20230504T233000Z
END:VEVENT
END:VCALENDAR
