BEGIN:VCALENDAR
VERSION:2.0
PRODID:SchoolNow
CALSCALE:GREGORIAN
BEGIN:VEVENT
UID:a2561cb0-c5e9-11ed-8c11-028ceb8aab2b
DTSTAMP:20230319T000435Z
SUMMARY:CDD Meeting - May 3rd
URL;VALUE=URI:https://www.wildernesslakecdd.org/calendar/3889347/cdd-meetin
 g-may-3rd
DTSTART:20230503T223000Z
DTEND:20230504T030000Z
END:VEVENT
END:VCALENDAR
