BEGIN:VCALENDAR
VERSION:2.0
PRODID:SchoolNow
CALSCALE:GREGORIAN
BEGIN:VEVENT
UID:7ab039d4-c5e9-11ed-8743-028ceb8aab2b
DTSTAMP:20230319T000329Z
SUMMARY:Food Truck - May 31st
URL;VALUE=URI:https://www.wildernesslakecdd.org/calendar/3889346/food-truck
 -may-31st
DTSTART:20230531T210000Z
DTEND:20230531T233000Z
END:VEVENT
END:VCALENDAR
