BEGIN:VCALENDAR
VERSION:2.0
PRODID:SchoolNow
CALSCALE:GREGORIAN
BEGIN:VEVENT
UID:70cdb4f0-c5e9-11ed-b25e-028ceb8aab2b
DTSTAMP:20230319T000312Z
SUMMARY:Food Truck - May 24th
URL;VALUE=URI:https://www.wildernesslakecdd.org/calendar/3889345/food-truck
 -may-24th
DTSTART:20230524T210000Z
DTEND:20230524T233000Z
END:VEVENT
END:VCALENDAR
