BEGIN:VCALENDAR
VERSION:2.0
PRODID:SchoolNow
CALSCALE:GREGORIAN
BEGIN:VEVENT
UID:4ebb57e6-c5e9-11ed-bb93-028ceb8aab2b
DTSTAMP:20230319T000215Z
SUMMARY:Food Truck - May 3rd
URL;VALUE=URI:https://www.wildernesslakecdd.org/calendar/3889342/food-truck
 -may-3rd
DTSTART:20230503T210000Z
DTEND:20230503T233000Z
END:VEVENT
END:VCALENDAR
