BEGIN:VCALENDAR
VERSION:2.0
PRODID:SchoolNow
CALSCALE:GREGORIAN
BEGIN:VEVENT
UID:2d088a92-c5e9-11ed-968a-028ceb8aab2b
DTSTAMP:20230319T000119Z
SUMMARY:Card Games - May 31st
URL;VALUE=URI:https://www.wildernesslakecdd.org/calendar/3889341/card-games
 -may-31st
DTSTART:20230531T170000Z
DTEND:20230531T190000Z
END:VEVENT
END:VCALENDAR
