BEGIN:VCALENDAR
VERSION:2.0
PRODID:SchoolNow
CALSCALE:GREGORIAN
BEGIN:VEVENT
UID:2379edae-c5e9-11ed-82ad-028ceb8aab2b
DTSTAMP:20230319T000103Z
SUMMARY:Card Games - May 24th
URL;VALUE=URI:https://www.wildernesslakecdd.org/calendar/3889340/card-games
 -may-24th
DTSTART:20230524T170000Z
DTEND:20230524T190000Z
END:VEVENT
END:VCALENDAR
