BEGIN:VCALENDAR
VERSION:2.0
PRODID:SchoolNow
CALSCALE:GREGORIAN
BEGIN:VEVENT
UID:17fc0ade-c5e9-11ed-847e-028ceb8aab2b
DTSTAMP:20230319T000043Z
SUMMARY:Card Games - May 17th
URL;VALUE=URI:https://www.wildernesslakecdd.org/calendar/3889339/card-games
 -may-17th
DTSTART:20230517T170000Z
DTEND:20230517T190000Z
END:VEVENT
END:VCALENDAR
