BEGIN:VCALENDAR
VERSION:2.0
PRODID:SchoolNow
CALSCALE:GREGORIAN
BEGIN:VEVENT
UID:0e56a174-c5e9-11ed-bf87-028ceb8aab2b
DTSTAMP:20230319T000027Z
SUMMARY:Card Games - May 10th
URL;VALUE=URI:https://www.wildernesslakecdd.org/calendar/3889338/card-games
 -may-10th
DTSTART:20230510T170000Z
DTEND:20230510T190000Z
END:VEVENT
END:VCALENDAR
