BEGIN:VCALENDAR
VERSION:2.0
PRODID:SchoolNow
CALSCALE:GREGORIAN
BEGIN:VEVENT
UID:01019132-c5e9-11ed-b96d-028ceb8aab2b
DTSTAMP:20230319T000005Z
SUMMARY:Card Games - May 3rd
URL;VALUE=URI:https://www.wildernesslakecdd.org/calendar/3889337/card-games
 -may-3rd
DTSTART:20230503T170000Z
DTEND:20230503T190000Z
END:VEVENT
END:VCALENDAR
