BEGIN:VCALENDAR
VERSION:2.0
PRODID:SchoolNow
CALSCALE:GREGORIAN
BEGIN:VEVENT
UID:e35ffd9e-c5e8-11ed-bc41-028ceb8aab2b
DTSTAMP:20230318T235915Z
SUMMARY:Bible Study - May 31st
URL;VALUE=URI:https://www.wildernesslakecdd.org/calendar/3889336/bible-stud
 y-may-31st
DTSTART:20230531T140000Z
DTEND:20230531T150000Z
END:VEVENT
END:VCALENDAR
