BEGIN:VCALENDAR
VERSION:2.0
PRODID:SchoolNow
CALSCALE:GREGORIAN
BEGIN:VEVENT
UID:d97481ba-c5e8-11ed-91d3-028ceb8aab2b
DTSTAMP:20230318T235858Z
SUMMARY:Bible Study - May 24th
URL;VALUE=URI:https://www.wildernesslakecdd.org/calendar/3889335/bible-stud
 y-may-24th
DTSTART:20230524T140000Z
DTEND:20230524T150000Z
END:VEVENT
END:VCALENDAR
