BEGIN:VCALENDAR
VERSION:2.0
PRODID:SchoolNow
CALSCALE:GREGORIAN
BEGIN:VEVENT
UID:c691ea10-c5e8-11ed-bab5-028ceb8aab2b
DTSTAMP:20230318T235827Z
SUMMARY:Bible Study - May 10th
URL;VALUE=URI:https://www.wildernesslakecdd.org/calendar/3889333/bible-stud
 y-may-10th
DTSTART:20230510T140000Z
DTEND:20230510T150000Z
END:VEVENT
END:VCALENDAR
