BEGIN:VCALENDAR
VERSION:2.0
PRODID:SchoolNow
CALSCALE:GREGORIAN
BEGIN:VEVENT
UID:ba56b492-c5e8-11ed-8613-028ceb8aab2b
DTSTAMP:20230318T235806Z
SUMMARY:Bible Study - May 3rd
URL;VALUE=URI:https://www.wildernesslakecdd.org/calendar/3889332/bible-stud
 y-may-3rd
DTSTART:20230503T140000Z
DTEND:20230503T150000Z
END:VEVENT
END:VCALENDAR
