BEGIN:VCALENDAR
VERSION:2.0
PRODID:SchoolNow
CALSCALE:GREGORIAN
BEGIN:VEVENT
UID:8cd496b0-c5e8-11ed-bd15-028ceb8aab2b
DTSTAMP:20230318T235650Z
SUMMARY:Family Movie Morning - May 30th
LOCATION:Theatre
URL;VALUE=URI:https://www.wildernesslakecdd.org/calendar/3889331/family-mov
 ie-morning-may-30th
DTSTART:20230530T140000Z
DTEND:20230530T153000Z
END:VEVENT
END:VCALENDAR
