BEGIN:VCALENDAR
VERSION:2.0
PRODID:SchoolNow
CALSCALE:GREGORIAN
BEGIN:VEVENT
UID:836a961a-c5e8-11ed-a9fa-028ceb8aab2b
DTSTAMP:20230318T235634Z
SUMMARY:Family Movie Morning - May 23rd
LOCATION:Theatre
URL;VALUE=URI:https://www.wildernesslakecdd.org/calendar/3889330/family-mov
 ie-morning-may-23rd
DTSTART:20230523T140000Z
DTEND:20230523T153000Z
END:VEVENT
END:VCALENDAR
