BEGIN:VCALENDAR
VERSION:2.0
PRODID:SchoolNow
CALSCALE:GREGORIAN
BEGIN:VEVENT
UID:7a469dfe-c5e8-11ed-a2c9-028ceb8aab2b
DTSTAMP:20230318T235619Z
SUMMARY:Family Movie Morning - May 16th
LOCATION:Theatre
URL;VALUE=URI:https://www.wildernesslakecdd.org/calendar/3889329/family-mov
 ie-morning-may-16th
DTSTART:20230516T140000Z
DTEND:20230516T153000Z
END:VEVENT
END:VCALENDAR
